BEGIN:VCALENDAR
VERSION:2.0
METHOD:PUBLISH
PRODID:-//Accessible Web Design//My Calendar//http://www.joedolson.com//v//EN';
BEGIN:VEVENT
UID:9-9
LOCATION:Teatro Mancinelli Orvieto
SUMMARY:Orvieto Spazio musica Masterclass
DTSTAMP:20240709
ORGANIZER;CN=admin:MAILTO:crt@lasbaher.com
DTSTART:20240709
DTEND:20240804
CATEGORIES:General
URL;VALUE=URI:https://lasbaher.com/mc-events/orvieto-spazio-musica-masterclass/?mc_id=9
DESCRIPTION:G. Rossini: La Cenerentola
X-FUNAMBOL-ALLDAY: 1
X-MICROSOFT-CDO-ALLDAYEVENT: TRUE

END:VEVENT
END:VCALENDAR