BEGIN:VCALENDAR
VERSION:2.0
METHOD:PUBLISH
PRODID:-//Accessible Web Design//My Calendar//http://www.joedolson.com//v//EN';
BEGIN:VEVENT
UID:7-7
LOCATION:SNG opera in balet Ljubljana Župančičeva ulica 1  Ljubljana  1000
SUMMARY:G. Donizetti: L' elisir d' amore
DTSTAMP:20240202T193000
ORGANIZER;CN=admin:MAILTO:crt@lasbaher.com
DTSTART:20240202T193000
DTEND:20240202T203000
CATEGORIES:General
URL;VALUE=URI:https://lasbaher.com/mc-events/g-donizetti-l-elisir-d-amore-2/?mc_id=7
DESCRIPTION:
END:VEVENT
END:VCALENDAR