BEGIN:VCALENDAR
VERSION:2.0
METHOD:PUBLISH
PRODID:-//Accessible Web Design//My Calendar//http://www.joedolson.com//v//EN';
BEGIN:VEVENT
UID:6-6
LOCATION:Sofia Philharmonic, Bulgaria Hall Sofia Center ul. Aksakov Sofia  1000
SUMMARY:Young talents concert
DTSTAMP:20240111T190000
ORGANIZER;CN=admin:MAILTO:crt@lasbaher.com
DTSTART:20240111T190000
DTEND:20240111T200000
CATEGORIES:General
URL;VALUE=URI:https://lasbaher.com/mc-events/young-talents-concert/?mc_id=6
DESCRIPTION:
END:VEVENT
END:VCALENDAR