BEGIN:VCALENDAR
VERSION:2.0
METHOD:PUBLISH
PRODID:-//Accessible Web Design//My Calendar//http://www.joedolson.com//v//EN';
BEGIN:VEVENT
UID:5-5
LOCATION:City Halls, Glasgow 100 Candleriggs 1NQ, United Kingdom  Glasgow   G1 1NQ
SUMMARY:Young conductors showcase
DTSTAMP:20240605T140000
ORGANIZER;CN=admin:MAILTO:crt@lasbaher.com
DTSTART:20240605T140000
DTEND:20240605T150000
CATEGORIES:General
URL;VALUE=URI:https://lasbaher.com/mc-events/young-conductors-showcase/?mc_id=5
DESCRIPTION:Join conducting talent from across the UK, Austria and Finland as they direct the BBC Scottish Symphony Orchestra in a varied programme of works by Debussy, Gregson &amp; Elgar. This concert, jointly presented by the BBC SSO and the Royal Conservatoire of Scotland is the culmination of a week’s activities with conductor Martyn Brabbins.
END:VEVENT
END:VCALENDAR