BEGIN:VCALENDAR
VERSION:2.0
METHOD:PUBLISH
PRODID:-//Accessible Web Design//My Calendar//http://www.joedolson.com//v//EN';
BEGIN:VEVENT
UID:35-34
LOCATION:Kirche Sacre Coeur Pressbaum Klostergasse 12  Pressbaum  3021
SUMMARY:Sommerkonzert mit dem Stadtorchester Pressbaum
DTSTAMP:20260628T190000
ORGANIZER;CN=admin:MAILTO:crt@lasbaher.com
DTSTART:20260628T190000
DTEND:20260628T200000
CATEGORIES:General
URL;VALUE=URI:https://lasbaher.com/mc-events/sommerkonzert-mit-dem-stadtorchester-pressbaum/?mc_id=35
DESCRIPTION:Sophie Abraham: Roadtrip ins Innere, Uraufführung F. J. Haydn: Cellokonzert in D-Dur, Hob. VIIb/2, Op. 101, Solo Cello: Sophie Abraham W. A. Mozart: Symphonye Nr. 35 in D-Dur, KV 385 "Haffner" &nbsp; Stadtorchester Pressbaum Črt Lasbaher, Dirigent
END:VEVENT
END:VCALENDAR