BEGIN:VCALENDAR
VERSION:2.0
METHOD:PUBLISH
PRODID:-//Accessible Web Design//My Calendar//http://www.joedolson.com//v//EN';
BEGIN:VEVENT
UID:33-32
LOCATION:Kirche Sacre Coeur Pressbaum Klostergasse 12  Pressbaum  3021
SUMMARY:Winterkonzert Stadtorchester Pressbaum
DTSTAMP:20260125T180000
ORGANIZER;CN=admin:MAILTO:crt@lasbaher.com
DTSTART:20260125T180000
DTEND:20260125T190000
CATEGORIES:General
URL;VALUE=URI:https://lasbaher.com/mc-events/winterkonzert-stadtorchester-pressbaum/?mc_id=33
DESCRIPTION:Programm: L. van Beethoven: Coriolan Ouvertüre, Op. 62 J. Haydn: Klavierkonzert Nr. 11 in D-Dur, Hob XVIII:11 F. Schubert: Symphonie Nr. 3 in D-Dur, D 200
END:VEVENT
END:VCALENDAR