BEGIN:VCALENDAR
VERSION:2.0
METHOD:PUBLISH
PRODID:-//Accessible Web Design//My Calendar//http://www.joedolson.com//v//EN';
BEGIN:VEVENT
UID:3-3
LOCATION:University of Music and Performing arts Vienna Anton von Webern Platz 1  Vienna  1030
SUMMARY:Klassenabend MDW
DTSTAMP:20240423T183000
ORGANIZER;CN=admin:MAILTO:crt@lasbaher.com
DTSTART:20240423T183000
DTEND:20240423T193000
CATEGORIES:General
URL;VALUE=URI:https://lasbaher.com/mc-events/klassenabend-mdw/?mc_id=3
DESCRIPTION:Annual class concert at the University
END:VEVENT
END:VCALENDAR