BEGIN:VCALENDAR
VERSION:2.0
METHOD:PUBLISH
PRODID:-//Accessible Web Design//My Calendar//http://www.joedolson.com//v//EN';
BEGIN:VEVENT
UID:28-27
LOCATION:
SUMMARY:Glasbene Reke
DTSTAMP:20260408T113000
ORGANIZER;CN=admin:MAILTO:crt@lasbaher.com
DTSTART:20260408T113000
DTEND:20260408T123000
CATEGORIES:General
URL;VALUE=URI:https://lasbaher.com/mc-events/glasbene-reke-2/?mc_id=28
DESCRIPTION:Georg Friedrich Händel: Glasba na vodi, Suita št. 2 v D-duru  Bedřich Smetana: Vltava Danilo Bučar: Ob Kolpi (iz suite Belokranjske pisanice) Johann Strauss ml.: Na lepi modri Donavi, valček op, 314
END:VEVENT
END:VCALENDAR