BEGIN:VCALENDAR
VERSION:2.0
METHOD:PUBLISH
PRODID:-//Accessible Web Design//My Calendar//http://www.joedolson.com//v//EN';
BEGIN:VEVENT
UID:25-22
LOCATION:Pfarrkirche Heiliger Kreuz Grinzing Himmelstraße 25  Wien Wien 1190
SUMMARY:M. A. Charpentier: Messe de Minuit
DTSTAMP:20251225T100000
ORGANIZER;CN=admin:MAILTO:crt@lasbaher.com
DTSTART:20251225T100000
DTEND:20251225T110000
CATEGORIES:General
URL;VALUE=URI:https://lasbaher.com/mc-events/m-a-charpentier-messe-de-minuit/?mc_id=25
DESCRIPTION:
END:VEVENT
END:VCALENDAR