BEGIN:VCALENDAR
VERSION:2.0
METHOD:PUBLISH
PRODID:-//Accessible Web Design//My Calendar//http://www.joedolson.com//v//EN';
BEGIN:VEVENT
UID:18-18
LOCATION:Kirche Sacre Coeur Pressbaum Klostergasse 12  Pressbaum  3021
SUMMARY:Sommerkonzert Pressbaum
DTSTAMP:20250629T190000
ORGANIZER;CN=admin:MAILTO:crt@lasbaher.com
DTSTART:20250629T190000
DTEND:20250629T200000
CATEGORIES:General
URL;VALUE=URI:https://lasbaher.com/mc-events/sommerkonzert-pressbaum/?mc_id=18
DESCRIPTION:G. Puccini: Messa di Gloria L. van Beethoven: Egmont Ouvertüre Op. 84 J. Strauss Jr.: Bei uns z'Haus Op. 361
END:VEVENT
END:VCALENDAR