BEGIN:VCALENDAR
VERSION:2.0
METHOD:PUBLISH
PRODID:-//Accessible Web Design//My Calendar//http://www.joedolson.com//v//EN';
BEGIN:VEVENT
UID:15-15
LOCATION:Kirche Sacre Coeur Pressbaum Klostergasse 12  Pressbaum  3021
SUMMARY:Klassik von Nord nach Süd
DTSTAMP:20250223T180000
ORGANIZER;CN=admin:MAILTO:crt@lasbaher.com
DTSTART:20250223T180000
DTEND:20250223T200000
CATEGORIES:General
URL;VALUE=URI:https://lasbaher.com/mc-events/klassik-von-nord-nach-sud/?mc_id=15
DESCRIPTION:Programm: Emilie Mayer: Ouvertüre Nr. 2 D-Dur Gioachino Rossini: Introduktion, Thema und Variationen für Klarinette und Orchester B-Dur Juan Crisóstomo de Arriaga: Sinfonie D-Dur Solisten: Fangying Lu, Klarinette Dirigent: Črt Lasbaher
END:VEVENT
END:VCALENDAR