BEGIN:VCALENDAR
VERSION:2.0
METHOD:PUBLISH
PRODID:-//Accessible Web Design//My Calendar//http://www.joedolson.com//v//EN';
BEGIN:VEVENT
UID:11-11
LOCATION:Pfarrkirche Heiliger Kreuz Grinzing Himmelstraße 25  Wien Wien 1190
SUMMARY:Weihnachtsmesse Grinzing
DTSTAMP:20241225T100000
ORGANIZER;CN=admin:MAILTO:crt@lasbaher.com
DTSTART:20241225T100000
DTEND:20241225T110000
CATEGORIES:General
URL;VALUE=URI:https://lasbaher.com/mc-events/weihnachtsmesse-grinzing/?mc_id=11
DESCRIPTION:W. A. Mozart: Spatzenmesse KV 220
END:VEVENT
END:VCALENDAR