BEGIN:VCALENDAR
VERSION:2.0
METHOD:PUBLISH
PRODID:-//Accessible Web Design//My Calendar//http://www.joedolson.com//v//EN';
BEGIN:VEVENT
UID:10-10
LOCATION:Eisenstadt    Burgenland
SUMMARY:Konzert Eisenstadt
DTSTAMP:20241108
ORGANIZER;CN=admin:MAILTO:crt@lasbaher.com
DTSTART:20241108
DTEND:20241109
CATEGORIES:General
URL;VALUE=URI:https://lasbaher.com/mc-events/konzert-eisenstadt/?mc_id=10
DESCRIPTION:S. Prokofiev: Symphony No. 1
X-FUNAMBOL-ALLDAY: 1
X-MICROSOFT-CDO-ALLDAYEVENT: TRUE

END:VEVENT
END:VCALENDAR