BEGIN:VCALENDAR
VERSION:2.0
METHOD:PUBLISH
PRODID:-//Accessible Web Design//My Calendar//http://www.joedolson.com//v//EN';
BEGIN:VEVENT
UID:34-33
LOCATION:Stadttheater Flensburg Rathausstraße 22  Flensburg   24937
SUMMARY:F. Poulenc: Dialogues des Carmélites
DTSTAMP:20260429T193000
ORGANIZER;CN=admin:MAILTO:crt@lasbaher.com
DTSTART:20260429T193000
DTEND:20260429T220000
CATEGORIES:General
URL;VALUE=URI:https://lasbaher.com/mc-events/f-poulenc-dialogues-des-carmelites/?mc_id=34
DESCRIPTION:Inszenierung: Hendrik Müller Bühne: Rifail Ajdarpasic Kostüme: Ariane Isabell Unfried Choreinstudierung: Avishay Shalom Dramaturgie: Maximilian Eisenacher Der Marquis de la Force: Kai-Moritz von Blanckenburg Blanche, seine Tochter: Marysol Schalit Der Chevalier, sein Sohn: Dritan Angoni Madame de Croissy, Priorin: Itziar Lesaka Madame Lidoine, neue Priorin: Menna Cazel Mutter Marie, Novizenmeisterin: Vera Semieniuk Schwester Constance, Novizin: Anna Avdalyan Mutter Jeanne: Anna Grycan Schwester Mathilde: Anna Stepanets Der Beichtvater des Karmel: Christian&hellip;
END:VEVENT
END:VCALENDAR