BEGIN:VCALENDAR
VERSION:2.0
METHOD:PUBLISH
PRODID:-//Accessible Web Design//My Calendar//http://www.joedolson.com//v//EN';
BEGIN:VEVENT
UID:31-30
LOCATION:Kultur-Glashaus Pörtschach 6  Pörtschach  9100
SUMMARY:E. Kalman: Csardasfürstin
DTSTAMP:20250920T193000
ORGANIZER;CN=admin:MAILTO:crt@lasbaher.com
DTSTART:20250920T193000
DTEND:20250920T203000
CATEGORIES:General
URL;VALUE=URI:https://lasbaher.com/mc-events/e-kalman-csardasfurstin/?mc_id=31
DESCRIPTION:
END:VEVENT
END:VCALENDAR