BEGIN:VCALENDAR
VERSION:2.0
METHOD:PUBLISH
PRODID:-//Accessible Web Design//My Calendar//http://www.joedolson.com//v//EN';
BEGIN:VEVENT
UID:24-24
LOCATION:Das MuTh Konzertsaal Am Augartenspitz 1  Wien  1020
SUMMARY:TU Orchester
DTSTAMP:20251217T193000
ORGANIZER;CN=admin:MAILTO:crt@lasbaher.com
DTSTART:20251217T193000
DTEND:20251217T203000
CATEGORIES:General
URL;VALUE=URI:https://lasbaher.com/mc-events/tu-orchester-4/?mc_id=24
DESCRIPTION:Rossini: Ouvertüre zu La Cenerentola Tschaikovsky: Violinkonzert mit Leonhard Baumgartner Brahms: 3. Sinfonie
END:VEVENT
END:VCALENDAR