BEGIN:VCALENDAR
VERSION:2.0
METHOD:PUBLISH
PRODID:-//Accessible Web Design//My Calendar//http://www.joedolson.com//v//EN';
BEGIN:VEVENT
UID:23-23
LOCATION:Kuppelsaal, TU Wien Karlsplatz 13  Vienna  1040
SUMMARY:TU Orchester
DTSTAMP:20251214T180000
ORGANIZER;CN=admin:MAILTO:crt@lasbaher.com
DTSTART:20251214T180000
DTEND:20251214T190000
CATEGORIES:General
URL;VALUE=URI:https://lasbaher.com/mc-events/tu-orchester-3/?mc_id=23
DESCRIPTION:Rossini: Ouvertüre zu La Cenerentola Tschaikovsky: Violinkonzert mit Leonhard Baumgartner Brahms: 3. Sinfonie
END:VEVENT
END:VCALENDAR