BEGIN:VCALENDAR
VERSION:2.0
METHOD:PUBLISH
PRODID:-//Accessible Web Design//My Calendar//http://www.joedolson.com//v//EN';
BEGIN:VEVENT
UID:21-21
LOCATION:Pfarrkirche Heiliger Kreuz Grinzing Himmelstraße 25  Wien Wien 1190
SUMMARY:W. A. Mozart: Requiem
DTSTAMP:20251102T180000
ORGANIZER;CN=admin:MAILTO:crt@lasbaher.com
DTSTART:20251102T180000
DTEND:20251102T190000
CATEGORIES:General
URL;VALUE=URI:https://lasbaher.com/mc-events/w-a-mozart-requiem/?mc_id=21
DESCRIPTION:
END:VEVENT
END:VCALENDAR