BEGIN:VCALENDAR
VERSION:2.0
METHOD:PUBLISH
PRODID:-//Accessible Web Design//My Calendar//http://www.joedolson.com//v//EN';
BEGIN:VEVENT
UID:20-20
LOCATION:Großer Sendesaal ORF RadioKulturhaus  Argentinierstraße 30a  Wien  1040
SUMMARY:Der Mythos Johann Strauss
DTSTAMP:20250626T190000
ORGANIZER;CN=admin:MAILTO:crt@lasbaher.com
DTSTART:20250626T190000
DTEND:20250626T200000
CATEGORIES:General
URL;VALUE=URI:https://lasbaher.com/mc-events/der-mythos-johann-strauss/?mc_id=20
DESCRIPTION:Bekannte und weniger bekannte Hits aus seinen Operetten, präsentiert von Sänger_innen und dem Savaria Symphony Orchestra, unterstützt durch Tanz und Multimedia, werden einen besonderen Beitrag zu den weltweiten Veranstaltungen anlässlich des 200. Geburtstags von Johann Strauss II leisten. Dirigent_innen: Studierende des Instituts für Musikleitung der mdw – Universität für Musik und darstellende Kunst Wien Musikalische&hellip;
END:VEVENT
END:VCALENDAR