BEGIN:VCALENDAR
VERSION:2.0
METHOD:PUBLISH
PRODID:-//Accessible Web Design//My Calendar//http://www.joedolson.com//v//EN';
BEGIN:VEVENT
UID:19-19
LOCATION:Kuppelsaal, TU Wien Karlsplatz 13  Vienna  1040
SUMMARY:TU Orchester
DTSTAMP:20250617T193000
ORGANIZER;CN=admin:MAILTO:crt@lasbaher.com
DTSTART:20250617T193000
DTEND:20250617T203000
CATEGORIES:General
URL;VALUE=URI:https://lasbaher.com/mc-events/tu-orchester-2/?mc_id=19
DESCRIPTION:E. W. Korngold: Straussiana
END:VEVENT
END:VCALENDAR