BEGIN:VCALENDAR
VERSION:2.0
METHOD:PUBLISH
PRODID:-//Accessible Web Design//My Calendar//http://www.joedolson.com//v//EN';
BEGIN:VEVENT
UID:16-16
LOCATION:Kuppelsaal, TU Wien Karlsplatz 13  Vienna  1040
SUMMARY:TU Orchester
DTSTAMP:20250616T193000
ORGANIZER;CN=admin:MAILTO:crt@lasbaher.com
DTSTART:20250616T193000
DTEND:20250616T203000
CATEGORIES:General
URL;VALUE=URI:https://lasbaher.com/mc-events/tu-orchester/?mc_id=16
DESCRIPTION:E.W. Korngold: Straussiana
END:VEVENT
END:VCALENDAR