BEGIN:VCALENDAR
VERSION:2.0
METHOD:PUBLISH
PRODID:-//Accessible Web Design//My Calendar//http://www.joedolson.com//v//EN';
BEGIN:VEVENT
UID:14-14
LOCATION:Musikverein Wien Musikvereinplatz 1  Wien Wien 1010
SUMMARY:Öffentliches Diplomkonzert
DTSTAMP:20250619T193000
ORGANIZER;CN=admin:MAILTO:crt@lasbaher.com
DTSTART:20250619T193000
DTEND:20250619T213000
CATEGORIES:General
URL;VALUE=URI:https://lasbaher.com/mc-events/offentliches-diplomkonzert/?mc_id=14
DESCRIPTION:Programm Benjamin Britten: aus Peter Grimes: Four Sea Interludes Dirigent: Tobias Grabher Leoš Janáček: Suite aus der Oper ‚Das schlaue Füchslein‘ Dirigent: Črt Lasbaher PAUSE Ottorino Respighi: Fontane di Roma Dirigent: Markus Rohregger Igor Stravinsky:  Der Feuervogel, Symphonische Suite Dirigent: Jooyoung Chang ______________ Mit dem ORF Radio-Symphonieorchester Wien
END:VEVENT
END:VCALENDAR