BEGIN:VCALENDAR
VERSION:2.0
METHOD:PUBLISH
PRODID:-//Accessible Web Design//My Calendar//http://www.joedolson.com//v//EN';
BEGIN:VEVENT
UID:12-12
LOCATION:Pfarrkirche Heiliger Kreuz Grinzing Himmelstraße 25  Wien Wien 1190
SUMMARY:Adventkonzert Grinzing
DTSTAMP:20241207T000000
ORGANIZER;CN=admin:MAILTO:crt@lasbaher.com
DTSTART:20241207T000000
DTEND:20241207T010000
CATEGORIES:General
URL;VALUE=URI:https://lasbaher.com/mc-events/adventkonzert-grinzing/?mc_id=12
DESCRIPTION:
END:VEVENT
END:VCALENDAR